BEGIN:VCALENDAR
VERSION:2.0
PRODID:spatie/icalendar-generator
DESCRIPTION:Évènements de Dictionnaire LfPC
X-WR-CALDESC:Évènements de Dictionnaire LfPC
REFRESH-INTERVAL;VALUE=DURATION:PT1440M
X-PUBLISHED-TTL:PT1440M
BEGIN:VTIMEZONE
TZID:Etc/GMT+0
BEGIN:STANDARD
DTSTART:20390812T000000Z
TZOFFSETFROM:+0000
TZOFFSETTO:+0000
END:STANDARD
END:VTIMEZONE
BEGIN:VTIMEZONE
TZID:UTC
BEGIN:STANDARD
DTSTART:20250725T023004Z
TZOFFSETFROM:+0000
TZOFFSETTO:+0000
END:STANDARD
END:VTIMEZONE
BEGIN:VEVENT
UID:7009-146
DTSTAMP:20260421T023004Z
SUMMARY:<a href="https://bonjourlpc.org/index.php/dictionnaire/espace/temp
 s/week-end/">Week-end</a>
LOCATION:
ORGANIZER;CN=lpc:MAILTO:benjamin.goodwin@univ-fcomte.fr
RRULE:FREQ=YEARLY;BYMONTH=05;BYDAY=08;UNTIL=20750508T000000Z
DTSTART;TZID=Etc/GMT+0;VALUE=DATE:20400508
DTEND;TZID=Etc/GMT+0;VALUE=DATE:20400509
X-ALT-DESC;FMTTYPE=TEXT/HTML:
CATEGORIES:General
URL;VALUE=URI:https://bonjourlpc.org/index.php/mc-events/week-end/?mc_id=70
 09
END:VEVENT
END:VCALENDAR