BEGIN:VCALENDAR
VERSION:2.0
PRODID:spatie/icalendar-generator
DESCRIPTION:Évènements de Dictionnaire LfPC
X-WR-CALDESC:Évènements de Dictionnaire LfPC
REFRESH-INTERVAL;VALUE=DURATION:PT1440M
X-PUBLISHED-TTL:PT1440M
BEGIN:VTIMEZONE
TZID:Etc/GMT+0
BEGIN:STANDARD
DTSTART:20281110T000000Z
TZOFFSETFROM:+0000
TZOFFSETTO:+0000
END:STANDARD
END:VTIMEZONE
BEGIN:VTIMEZONE
TZID:UTC
BEGIN:STANDARD
DTSTART:20250723T153427Z
TZOFFSETFROM:+0000
TZOFFSETTO:+0000
END:STANDARD
END:VTIMEZONE
BEGIN:VEVENT
UID:11681-240
DTSTAMP:20260419T153427Z
SUMMARY:<a href="https://bonjourlpc.org/index.php/dictionnaire/vie-quotidi
 enne/alimentation/trianon/">Trianon</a>
LOCATION:
ORGANIZER;CN=lpc:MAILTO:benjamin.goodwin@univ-fcomte.fr
RRULE:FREQ=YEARLY;BYMONTH=08;BYDAY=07;UNTIL=20750807T000000Z
DTSTART;TZID=Etc/GMT+0;VALUE=DATE:20290807
DTEND;TZID=Etc/GMT+0;VALUE=DATE:20290808
X-ALT-DESC;FMTTYPE=TEXT/HTML:
CATEGORIES:General
URL;VALUE=URI:https://bonjourlpc.org/index.php/mc-events/trianon/?mc_id=116
 81
END:VEVENT
END:VCALENDAR