BEGIN:VCALENDAR
VERSION:2.0
PRODID:spatie/icalendar-generator
DESCRIPTION:Évènements de Dictionnaire LfPC
X-WR-CALDESC:Évènements de Dictionnaire LfPC
REFRESH-INTERVAL;VALUE=DURATION:PT1440M
X-PUBLISHED-TTL:PT1440M
BEGIN:VTIMEZONE
TZID:Etc/GMT+0
BEGIN:STANDARD
DTSTART:20640820T000000Z
TZOFFSETFROM:+0000
TZOFFSETTO:+0000
END:STANDARD
END:VTIMEZONE
BEGIN:VTIMEZONE
TZID:UTC
BEGIN:STANDARD
DTSTART:20250723T153635Z
TZOFFSETFROM:+0000
TZOFFSETTO:+0000
END:STANDARD
END:VTIMEZONE
BEGIN:VEVENT
UID:7443-155
DTSTAMP:20260419T153635Z
SUMMARY:<a href="https://bonjourlpc.org/index.php/dictionnaire/maison/cham
 bre/tiroir/">Tiroir</a>
LOCATION:
ORGANIZER;CN=lpc:MAILTO:benjamin.goodwin@univ-fcomte.fr
RRULE:FREQ=YEARLY;BYMONTH=05;BYDAY=17;UNTIL=20750517T000000Z
DTSTART;TZID=Etc/GMT+0;VALUE=DATE:20650517
DTEND;TZID=Etc/GMT+0;VALUE=DATE:20650518
X-ALT-DESC;FMTTYPE=TEXT/HTML:
CATEGORIES:General
URL;VALUE=URI:https://bonjourlpc.org/index.php/mc-events/tiroir/?mc_id=7443
END:VEVENT
END:VCALENDAR