BEGIN:VCALENDAR
VERSION:2.0
PRODID:spatie/icalendar-generator
DESCRIPTION:Évènements de Dictionnaire LfPC
X-WR-CALDESC:Évènements de Dictionnaire LfPC
REFRESH-INTERVAL;VALUE=DURATION:PT1440M
X-PUBLISHED-TTL:PT1440M
BEGIN:VTIMEZONE
TZID:Etc/GMT+0
BEGIN:STANDARD
DTSTART:20391122T000000Z
TZOFFSETFROM:+0000
TZOFFSETTO:+0000
END:STANDARD
END:VTIMEZONE
BEGIN:VTIMEZONE
TZID:UTC
BEGIN:STANDARD
DTSTART:20250723T224608Z
TZOFFSETFROM:+0000
TZOFFSETTO:+0000
END:STANDARD
END:VTIMEZONE
BEGIN:VEVENT
UID:12254-252
DTSTAMP:20260419T224608Z
SUMMARY:<a href="https://bonjourlpc.org/index.php/dictionnaire/vie-quotidi
 enne/alimentation/glace-italienne/">Glace italienne</a>
LOCATION:
ORGANIZER;CN=lpc:MAILTO:benjamin.goodwin@univ-fcomte.fr
RRULE:FREQ=YEARLY;BYMONTH=08;BYDAY=18;UNTIL=20750818T000000Z
DTSTART;TZID=Etc/GMT+0;VALUE=DATE:20400818
DTEND;TZID=Etc/GMT+0;VALUE=DATE:20400819
X-ALT-DESC;FMTTYPE=TEXT/HTML:
CATEGORIES:General
URL;VALUE=URI:https://bonjourlpc.org/index.php/mc-events/glace-italienne/?m
 c_id=12254
END:VEVENT
END:VCALENDAR